BEGIN:VCALENDAR
VERSION:2.0
PRODID:-//Plone.org//NONSGML plone.app.event//EN
X-WR-TIMEZONE:Europe/Madrid
BEGIN:VEVENT
SUMMARY:Curs de Patinatge
DTSTART;TZID=Europe/Madrid;VALUE=DATE-TIME:20160110T100000
DTEND;TZID=Europe/Madrid;VALUE=DATE-TIME:20160110T110000
DTSTAMP;VALUE=DATE-TIME:20260426T062125Z
UID:6cb6945b8937267b98953a7c3685c682
CREATED;VALUE=DATE-TIME:20160110T000000Z
CATEGORIES:Esports,Cursos
LOCATION:Pavelló Poliesportiu Municipal
COMMENT:Durada: A partir de les 10h
DESCRIPTION:Federació Catalana de Patinatge
URL:https://caldetes.cat/document.php?id=4365
END:VEVENT
END:VCALENDAR