BEGIN:VCALENDAR
VERSION:2.0
PRODID:-//Plone.org//NONSGML plone.app.event//EN
X-WR-TIMEZONE:Europe/Madrid
BEGIN:VEVENT
SUMMARY:Festival Poesia i + 2016
DTSTART;TZID=Europe/Madrid;VALUE=DATE-TIME:20160707T210000
DTEND;TZID=Europe/Madrid;VALUE=DATE-TIME:20160707T220000
DTSTAMP;VALUE=DATE-TIME:20260425T131935Z
UID:1207e85db95eb9cf14b7248b192bd2f1
CREATED;VALUE=DATE-TIME:20160707T000000Z
CATEGORIES:Música
ORGANIZER:Fundació Palau i Ajuntament de Caldes d'Estrac
DESCRIPTION:Del 7 al 17 de juliol
URL:https://caldetes.cat/document.php?id=4869
END:VEVENT
END:VCALENDAR