BEGIN:VCALENDAR
VERSION:2.0
PRODID:-//Plone.org//NONSGML plone.app.event//EN
X-WR-TIMEZONE:Europe/Madrid
BEGIN:VEVENT
SUMMARY:Festival Poesia i + 2016
DTSTART;TZID=Europe/Madrid;VALUE=DATE-TIME:20160715T210000
DTEND;TZID=Europe/Madrid;VALUE=DATE-TIME:20160715T220000
DTSTAMP;VALUE=DATE-TIME:20260426T000201Z
UID:0a8ab3d8e3485a23ab30131b3f1a7bbf
CREATED;VALUE=DATE-TIME:20160715T000000Z
CATEGORIES:Música
LOCATION:Esplanada Can Muntanyà
ORGANIZER:Fundació Palau i Ajuntament Caldes d'Estrac
COMMENT:Preu: 15&euro; entrada conjunta amb Niño de Elche
DESCRIPTION:Maria Arnal i Marcel Bagés
URL:https://caldetes.cat/document.php?id=4885
END:VEVENT
END:VCALENDAR