BEGIN:VCALENDAR
VERSION:2.0
PRODID:-//Plone.org//NONSGML plone.app.event//EN
X-WR-TIMEZONE:Europe/Madrid
BEGIN:VEVENT
SUMMARY:Festival Poesia i + 2016
DTSTART;TZID=Europe/Madrid;VALUE=DATE-TIME:20160716T200000
DTEND;TZID=Europe/Madrid;VALUE=DATE-TIME:20160716T210000
DTSTAMP;VALUE=DATE-TIME:20260425T230810Z
UID:ce23f78d21067b55dbe0bf6ddb7a24ce
CREATED;VALUE=DATE-TIME:20160716T000000Z
CATEGORIES:Música
LOCATION:Fundació Palau
ORGANIZER:Fundació Palau i Ajuntament Caldes d'Estrac
COMMENT:Preu: Gratüit
DESCRIPTION:Futur present: Laia carbonell, Carles Morell, Aina Torres I Irene Solà. A càrrec de Lluís Calvo
URL:https://caldetes.cat/document.php?id=4887
END:VEVENT
END:VCALENDAR