BEGIN:VCALENDAR
VERSION:2.0
PRODID:-//Plone.org//NONSGML plone.app.event//EN
X-WR-TIMEZONE:Europe/Madrid
BEGIN:VEVENT
SUMMARY:L´EMPREMTA DE GRANADOS ENTRE EL DRAMA I EL MITE
DTSTART;TZID=Europe/Madrid;VALUE=DATE-TIME:20160708T235900
DTEND;TZID=Europe/Madrid;VALUE=DATE-TIME:20160709T005900
DTSTAMP;VALUE=DATE-TIME:20260425T231406Z
UID:18d29c905d85c6ebfb438b277982b662
CREATED;VALUE=DATE-TIME:20160708T000000Z
CATEGORIES:Exposició
LOCATION:Fundació Palau
ORGANIZER:Fundació Palau i Ajuntament Caldes d'Estrac
COMMENT:Durada: Fins el 01 de setembre de 2016
DESCRIPTION:Ismael Smith, Goya, Lluís Bagaria, Enric Granados i Joan Vilatobà
URL:https://caldetes.cat/document.php?id=4894
END:VEVENT
END:VCALENDAR