BEGIN:VCALENDAR
VERSION:2.0
PRODID:-//Plone.org//NONSGML plone.app.event//EN
X-WR-TIMEZONE:Europe/Madrid
BEGIN:VEVENT
SUMMARY:"La fam no fa vacances...a la biblioteca"
DTSTART;TZID=Europe/Madrid;VALUE=DATE-TIME:20160704T000000
DTEND;TZID=Europe/Madrid;VALUE=DATE-TIME:20160704T010000
DTSTAMP;VALUE=DATE-TIME:20260425T141040Z
UID:d349c049d75081db0d8f5513f9b32787
CREATED;VALUE=DATE-TIME:20160704T000000Z
LOCATION:Biblioteca Can Milans
ORGANIZER:Biblioteca Can Milans, Biblioteques del Maresme, Fundació Banc dels Aliments i Creu Roja Caldes d'Estrac
COMMENT:Durada: Fins el 29 de juliol
DESCRIPTION:Campanya solidària de recollida d'aliments
URL:https://caldetes.cat/document.php?id=4931
END:VEVENT
END:VCALENDAR