BEGIN:VCALENDAR
VERSION:2.0
PRODID:-//Plone.org//NONSGML plone.app.event//EN
X-WR-TIMEZONE:Europe/Madrid
BEGIN:VEVENT
SUMMARY:Torneig Juvenil de Tennis Taula a la Fresca
DTSTART;TZID=Europe/Madrid;VALUE=DATE-TIME:20160723T170000
DTEND;TZID=Europe/Madrid;VALUE=DATE-TIME:20160723T180000
DTSTAMP;VALUE=DATE-TIME:20260426T004544Z
UID:1ff7491b4b39ed37e3d4d7329a57c30c
CREATED;VALUE=DATE-TIME:20160723T000000Z
CATEGORIES:Esports
LOCATION:Parc Joan Maragall
ORGANIZER:Espai Jove de Caldes d'Estrac
COMMENT:Preu: Gratuït
DESCRIPTION:No et quedis a la tumbona! Partcipa! Premis per als 3 primers classificats
URL:https://caldetes.cat/document.php?id=4970
END:VEVENT
END:VCALENDAR