BEGIN:VCALENDAR
VERSION:2.0
PRODID:-//Plone.org//NONSGML plone.app.event//EN
X-WR-TIMEZONE:Europe/Madrid
BEGIN:VEVENT
SUMMARY:L'emoció del Color
DTSTART;TZID=Europe/Madrid;VALUE=DATE-TIME:20160801T190000
DTEND;TZID=Europe/Madrid;VALUE=DATE-TIME:20160801T200000
DTSTAMP;VALUE=DATE-TIME:20260425T202427Z
UID:df41406cbe2b22960b1b43fccb47a755
CREATED;VALUE=DATE-TIME:20160801T000000Z
CATEGORIES:Exposició
LOCATION:L'Equipament (La Fabriqueta)
ORGANIZER:Àrea de Cultura de l'Ajuntament de Caldes d'Estrac
COMMENT:Preu: Gratuït
Durada: De l'1 al 15 d'agost
DESCRIPTION:Exposició de Martí Ceballos a la Fabriqueta. De l'1 al 15 d'agost
URL:https://caldetes.cat/document.php?id=4980
END:VEVENT
END:VCALENDAR