BEGIN:VCALENDAR
VERSION:2.0
PRODID:-//Plone.org//NONSGML plone.app.event//EN
X-WR-TIMEZONE:Europe/Madrid
BEGIN:VEVENT
SUMMARY:EXPOSICIÓ. "Mira que són bèsties" (Fins el 31 d'agost)
DTSTART;TZID=Europe/Madrid;VALUE=DATE-TIME:20160810T153000
DTEND;TZID=Europe/Madrid;VALUE=DATE-TIME:20160810T163000
DTSTAMP;VALUE=DATE-TIME:20260426T050418Z
UID:1684c464ff9c83b066ae385d933d3132
CREATED;VALUE=DATE-TIME:20160810T000000Z
CATEGORIES:Exposició,Mostra,Infantils
LOCATION:Biblioteca Can Milans
ORGANIZER:Biblioteca Can Milans. Diputació de Barcelona
COMMENT:Preu: Gratuït
Durada: Del 10 al 31 d'agost de 2016. De dilluns a divendres, de 15:30 a 20:30.
DESCRIPTION:Produïda per ClijCat. Consell Català del LLibre Infantil i Juvenil
URL:https://caldetes.cat/document.php?id=5009
END:VEVENT
END:VCALENDAR