BEGIN:VCALENDAR
VERSION:2.0
PRODID:-//Plone.org//NONSGML plone.app.event//EN
X-WR-TIMEZONE:Europe/Madrid
BEGIN:VEVENT
SUMMARY:CERCA - BRINDIS amb THE HAT HAUSEN ELÀSTIC BAND (música dixiland)
DTSTART;TZID=Europe/Madrid;VALUE=DATE-TIME:20160902T180000
DTEND;TZID=Europe/Madrid;VALUE=DATE-TIME:20160902T190000
DTSTAMP;VALUE=DATE-TIME:20260426T062107Z
UID:e83d474b0f526a0934b9018b222f5ffa
CREATED;VALUE=DATE-TIME:20160902T000000Z
CATEGORIES:Festa,Música
LOCATION:Cercavila
ORGANIZER:Àrea de Cultura
COMMENT:Preu: Gratuït
DESCRIPTION:Festa Major 2016
URL:https://caldetes.cat/document.php?id=5011
END:VEVENT
END:VCALENDAR