BEGIN:VCALENDAR
VERSION:2.0
PRODID:-//Plone.org//NONSGML plone.app.event//EN
X-WR-TIMEZONE:Europe/Madrid
BEGIN:VEVENT
SUMMARY:Pilates per a la  Gent gran
DTSTART;TZID=Europe/Madrid;VALUE=DATE-TIME:20161208T100000
DTEND;TZID=Europe/Madrid;VALUE=DATE-TIME:20161208T110000
DTSTAMP;VALUE=DATE-TIME:20260426T010344Z
UID:196ec318ce4f46860dc62434b2918fb9
CREATED;VALUE=DATE-TIME:20161208T000000Z
CATEGORIES:Cursos
LOCATION:Casal d'Avis
ORGANIZER:Àrea d'Acció Social
COMMENT:Preu: Gratuït
Durada: Del 6 d´octubre al 9 de març. Horari : dijous de 10 a 11h.
DESCRIPTION:A càrrec de Raquel Rivera.
URL:https://caldetes.cat/document.php?id=5042
END:VEVENT
END:VCALENDAR