BEGIN:VCALENDAR
VERSION:2.0
PRODID:-//Plone.org//NONSGML plone.app.event//EN
X-WR-TIMEZONE:Europe/Madrid
BEGIN:VEVENT
SUMMARY:Pilates per a la  Gent gran
DTSTART;TZID=Europe/Madrid;VALUE=DATE-TIME:20170126T100000
DTEND;TZID=Europe/Madrid;VALUE=DATE-TIME:20170126T110000
DTSTAMP;VALUE=DATE-TIME:20260423T003354Z
UID:0633e3fa643d948f5e41dc5965a740fb
CREATED;VALUE=DATE-TIME:20170126T000000Z
CATEGORIES:Cursos
LOCATION:Casal d'Avis
ORGANIZER:Àrea d'Acció Social
COMMENT:Preu: Gratuït
Durada: Del 6 d´octubre al 9 de març. Horari : dijous de 10 a 11h.
DESCRIPTION:A càrrec de Raquel Rivera.
URL:https://caldetes.cat/document.php?id=5049
END:VEVENT
END:VCALENDAR