BEGIN:VCALENDAR
VERSION:2.0
PRODID:-//Plone.org//NONSGML plone.app.event//EN
X-WR-TIMEZONE:Europe/Madrid
BEGIN:VEVENT
SUMMARY:Exposició itinerant
DTSTART;TZID=Europe/Madrid;VALUE=DATE-TIME:20160901T000000
DTEND;TZID=Europe/Madrid;VALUE=DATE-TIME:20160901T010000
DTSTAMP;VALUE=DATE-TIME:20260426T062138Z
UID:31ec1548526ab7dccfe9a3e981ffa5c1
CREATED;VALUE=DATE-TIME:20160901T000000Z
CATEGORIES:Exposició
LOCATION:Sala Cultural
ORGANIZER:Arxiu Comarcal del Maresme
COMMENT:Preu: Gratuït
Durada: De l'1 a l'11 de setembre
DESCRIPTION:"Pergamí 436-Història de la baronia del Maresme al s. XV
URL:https://caldetes.cat/document.php?id=5101
END:VEVENT
END:VCALENDAR