BEGIN:VCALENDAR
VERSION:2.0
PRODID:-//Plone.org//NONSGML plone.app.event//EN
X-WR-TIMEZONE:Europe/Madrid
BEGIN:VEVENT
SUMMARY:Taller Infantil
DTSTART;TZID=Europe/Madrid;VALUE=DATE-TIME:20161213T110000
DTEND;TZID=Europe/Madrid;VALUE=DATE-TIME:20161213T120000
DTSTAMP;VALUE=DATE-TIME:20260426T035301Z
UID:d2fcea2224c793f49488fade45c8cd4c
CREATED;VALUE=DATE-TIME:20161213T000000Z
CATEGORIES:Infantils
LOCATION:Sala Cultural
ORGANIZER:Àrea d'infància i Educació
COMMENT:Preu: Gratuït
Durada: 13:00h
DESCRIPTION:Llepa't els dits per Nadal
URL:https://caldetes.cat/document.php?id=5273
END:VEVENT
END:VCALENDAR