BEGIN:VCALENDAR
VERSION:2.0
PRODID:-//Plone.org//NONSGML plone.app.event//EN
X-WR-TIMEZONE:Europe/Madrid
BEGIN:VEVENT
SUMMARY:Inauguració Exposició
DTSTART;TZID=Europe/Madrid;VALUE=DATE-TIME:20161204T120000
DTEND;TZID=Europe/Madrid;VALUE=DATE-TIME:20161204T130000
DTSTAMP;VALUE=DATE-TIME:20260424T030343Z
UID:95c190fac72c1ee3ff4cd44e50f72c14
CREATED;VALUE=DATE-TIME:20161204T000000Z
CATEGORIES:Exposició
LOCATION:L'Equipament (La Fabriqueta)
COMMENT:Durada: Del 4 a l'11 de desembre
DESCRIPTION:Lydia Duran i Marta Tomàs
URL:https://caldetes.cat/document.php?id=5281
END:VEVENT
END:VCALENDAR