BEGIN:VCALENDAR
VERSION:2.0
PRODID:-//Plone.org//NONSGML plone.app.event//EN
X-WR-TIMEZONE:Europe/Madrid
BEGIN:VEVENT
SUMMARY:Escola de sardanes
DTSTART;TZID=Europe/Madrid;VALUE=DATE-TIME:20100627T113000
DTEND;TZID=Europe/Madrid;VALUE=DATE-TIME:20100627T123000
DTSTAMP;VALUE=DATE-TIME:20260425T051153Z
UID:994f53f37fa48bf39f3e04f0dc540cfc
CREATED;VALUE=DATE-TIME:20100627T000000Z
LOCATION:Esplanada Can Muntanyà
ORGANIZER:Agrupació de Pensionistes i Tercera Edat amb la col·laboració de l'Ajuntament de Caldes d'Estrac
COMMENT:Durada: 2 hores
URL:https://caldetes.cat/document.php?id=529
END:VEVENT
END:VCALENDAR