BEGIN:VCALENDAR
VERSION:2.0
PRODID:-//Plone.org//NONSGML plone.app.event//EN
X-WR-TIMEZONE:Europe/Madrid
BEGIN:VEVENT
SUMMARY:Sortim a passejar
DTSTART;TZID=Europe/Madrid;VALUE=DATE-TIME:20100616T000000
DTEND;TZID=Europe/Madrid;VALUE=DATE-TIME:20100616T010000
DTSTAMP;VALUE=DATE-TIME:20260426T004506Z
UID:a965dbc66e7e0dfc7a5556d49ed34f48
CREATED;VALUE=DATE-TIME:20100616T000000Z
ORGANIZER:Regidoria Serveis Socials Ajuntament de Caldes d´Estrac
URL:https://caldetes.cat/document.php?id=534
END:VEVENT
END:VCALENDAR