BEGIN:VCALENDAR
VERSION:2.0
PRODID:-//Plone.org//NONSGML plone.app.event//EN
X-WR-TIMEZONE:Europe/Madrid
BEGIN:VEVENT
SUMMARY:Assemblea de Joves: Carnestoltes
DTSTART;TZID=Europe/Madrid;VALUE=DATE-TIME:20161214T180000
DTEND;TZID=Europe/Madrid;VALUE=DATE-TIME:20161214T190000
DTSTAMP;VALUE=DATE-TIME:20260426T060303Z
UID:3575e707f582d65e5d918750f4a6d7ad
CREATED;VALUE=DATE-TIME:20161214T000000Z
CATEGORIES:Festa
LOCATION:Espai Jove
COMMENT:Preu: Gratuït
DESCRIPTION:Vine a triar la disfressa per a la comparsa jove!
URL:https://caldetes.cat/document.php?id=5352
END:VEVENT
END:VCALENDAR