BEGIN:VCALENDAR
VERSION:2.0
PRODID:-//Plone.org//NONSGML plone.app.event//EN
X-WR-TIMEZONE:Europe/Madrid
BEGIN:VEVENT
SUMMARY:Petitsons. 3r Cicle de Músiques al Pati de la Fundació Palau
DTSTART;TZID=Europe/Madrid;VALUE=DATE-TIME:20100612T180000
DTEND;TZID=Europe/Madrid;VALUE=DATE-TIME:20100612T190000
DTSTAMP;VALUE=DATE-TIME:20260425T172744Z
UID:711301cb91a9866e5e26d67473ebc196
CREATED;VALUE=DATE-TIME:20100612T000000Z
CATEGORIES:Música
LOCATION:Fundació Palau
ORGANIZER:Ajuntament de Caldes d'Estrac, producció a càrrec de dsoundgroup i la col·laboració de la Fundació Palau
COMMENT:Preu: 8 &euro;. Abonament pels dos espectacles: 14 &euro;. Reserva d'entrades a l'Equipament de Promoció Econòmica i Cultural. tel. 93 791 05 88
URL:https://caldetes.cat/document.php?id=537
END:VEVENT
END:VCALENDAR