BEGIN:VCALENDAR
VERSION:2.0
PRODID:-//Plone.org//NONSGML plone.app.event//EN
X-WR-TIMEZONE:Europe/Madrid
BEGIN:VEVENT
SUMMARY:Taller avis i néts. Junts sí que pintem!
DTSTART;TZID=Europe/Madrid;VALUE=DATE-TIME:20170305T113000
DTEND;TZID=Europe/Madrid;VALUE=DATE-TIME:20170305T123000
DTSTAMP;VALUE=DATE-TIME:20260425T003204Z
UID:a5dc015d822d4f8fe28b5330f47f1553
CREATED;VALUE=DATE-TIME:20170305T000000Z
CATEGORIES:Infantils
LOCATION:Fundació Palau
ORGANIZER:Fundació Palau i Ajuntament Caldes d'Estrac
COMMENT:Preu: 3&euro;/nen/na
DESCRIPTION:Els diumenges de la Fundació Palau
URL:https://caldetes.cat/document.php?id=5395
END:VEVENT
END:VCALENDAR