BEGIN:VCALENDAR
VERSION:2.0
PRODID:-//Plone.org//NONSGML plone.app.event//EN
X-WR-TIMEZONE:Europe/Madrid
BEGIN:VEVENT
SUMMARY:Rain, Snow, Paints
DTSTART;TZID=Europe/Madrid;VALUE=DATE-TIME:20170402T113000
DTEND;TZID=Europe/Madrid;VALUE=DATE-TIME:20170402T123000
DTSTAMP;VALUE=DATE-TIME:20260426T033045Z
UID:0e48742e42d0ed8dd91fddb3f409033b
CREATED;VALUE=DATE-TIME:20170402T000000Z
CATEGORIES:Infantils
LOCATION:Fundació Palau
ORGANIZER:Fundació Palau i Ajuntament Caldes d'Estrac
COMMENT:Preu: 3&euro;/nen/na
DESCRIPTION:Els diumenges de la Fundació Palau
URL:https://caldetes.cat/document.php?id=5396
END:VEVENT
END:VCALENDAR