BEGIN:VCALENDAR
VERSION:2.0
PRODID:-//Plone.org//NONSGML plone.app.event//EN
X-WR-TIMEZONE:Europe/Madrid
BEGIN:VEVENT
SUMMARY:Plou, neva, pinta
DTSTART;TZID=Europe/Madrid;VALUE=DATE-TIME:20170121T120000
DTEND;TZID=Europe/Madrid;VALUE=DATE-TIME:20170121T130000
DTSTAMP;VALUE=DATE-TIME:20260425T231210Z
UID:ed607d5292d3539a6c2b46e086a84b1f
CREATED;VALUE=DATE-TIME:20170121T000000Z
CATEGORIES:Exposició
LOCATION:Fundació Palau
ORGANIZER:Fundació Palau
COMMENT:Preu: Gratuït
DESCRIPTION:Exposició a la Fundació Palau. Es pot visitar fins el 2 d'abril
URL:https://caldetes.cat/document.php?id=5397
END:VEVENT
END:VCALENDAR