BEGIN:VCALENDAR
VERSION:2.0
PRODID:-//Plone.org//NONSGML plone.app.event//EN
X-WR-TIMEZONE:Europe/Madrid
BEGIN:VEVENT
SUMMARY:"Escultures"
DTSTART;TZID=Europe/Madrid;VALUE=DATE-TIME:20170102T190000
DTEND;TZID=Europe/Madrid;VALUE=DATE-TIME:20170102T200000
DTSTAMP;VALUE=DATE-TIME:20260422T164149Z
UID:71f2191cab00024b50b9a4f9128f377e
CREATED;VALUE=DATE-TIME:20170102T000000Z
CATEGORIES:Exposició,Mostra
LOCATION:L'Equipament (La Fabriqueta)
DESCRIPTION:Exposició Abel Pruñonosa
URL:https://caldetes.cat/document.php?id=5398
END:VEVENT
END:VCALENDAR