BEGIN:VCALENDAR
VERSION:2.0
PRODID:-//Plone.org//NONSGML plone.app.event//EN
X-WR-TIMEZONE:Europe/Madrid
BEGIN:VEVENT
SUMMARY:Forma´t 2017
DTSTART;TZID=Europe/Madrid;VALUE=DATE-TIME:20170216T160000
DTEND;TZID=Europe/Madrid;VALUE=DATE-TIME:20170216T170000
DTSTAMP;VALUE=DATE-TIME:20260424T001227Z
UID:ac5b8d6023465ff01f2e423ee32fb2a6
CREATED;VALUE=DATE-TIME:20170216T000000Z
CATEGORIES:Cursos,Conferència
LOCATION:La Fabriqueta
ORGANIZER:Ajuntament de Caldes d'Estrac, Sant Andreu de LLavaneres i Sant Vicenç de Montalt
COMMENT:Preu: Gratuït
Durada: De 16 a 19h
DESCRIPTION:Busques feina? El Servei Local d'Ocupació
URL:https://caldetes.cat/document.php?id=5416
END:VEVENT
END:VCALENDAR