BEGIN:VCALENDAR
VERSION:2.0
PRODID:-//Plone.org//NONSGML plone.app.event//EN
X-WR-TIMEZONE:Europe/Madrid
BEGIN:VEVENT
SUMMARY:Forma´t 2017
DTSTART;TZID=Europe/Madrid;VALUE=DATE-TIME:20170316T160000
DTEND;TZID=Europe/Madrid;VALUE=DATE-TIME:20170316T170000
DTSTAMP;VALUE=DATE-TIME:20260422T014459Z
UID:ed293d91167a0c3dae357e852457b0b1
CREATED;VALUE=DATE-TIME:20170316T000000Z
CATEGORIES:Cursos,Conferència
LOCATION:La Fabriqueta
ORGANIZER:Ajuntament de Caldes d'Estrac, Sant Andreu de LLavaneres i Sant Vicenç de Montalt
COMMENT:Preu: Gratuït
Durada: De 16 a 19h
DESCRIPTION:100 CV per a 100 ofertes. Adapta el teu currículum a les necessitats del mercat laboral
URL:https://caldetes.cat/document.php?id=5417
END:VEVENT
END:VCALENDAR