BEGIN:VCALENDAR
VERSION:2.0
PRODID:-//Plone.org//NONSGML plone.app.event//EN
X-WR-TIMEZONE:Europe/Madrid
BEGIN:VEVENT
SUMMARY:Encesa del pebeter, petards i crema de la foguera de Sant Joan
DTSTART;TZID=Europe/Madrid;VALUE=DATE-TIME:20100623T220000
DTEND;TZID=Europe/Madrid;VALUE=DATE-TIME:20100623T230000
DTSTAMP;VALUE=DATE-TIME:20260426T041957Z
UID:2490a8f137d58d8c3f70aaea230cfad6
CREATED;VALUE=DATE-TIME:20100623T000000Z
LOCATION:Platja del Bassiot
URL:https://caldetes.cat/document.php?id=542
END:VEVENT
END:VCALENDAR