BEGIN:VCALENDAR
VERSION:2.0
PRODID:-//Plone.org//NONSGML plone.app.event//EN
X-WR-TIMEZONE:Europe/Madrid
BEGIN:VEVENT
SUMMARY:Mannequin Challenge a l'Espai Jove
DTSTART;TZID=Europe/Madrid;VALUE=DATE-TIME:20170119T180000
DTEND;TZID=Europe/Madrid;VALUE=DATE-TIME:20170119T190000
DTSTAMP;VALUE=DATE-TIME:20260421T213702Z
UID:69a65e304ab132958792cb6caaf1b25f
CREATED;VALUE=DATE-TIME:20170119T000000Z
LOCATION:Espai Jove
COMMENT:Preu: Gratuït
DESCRIPTION:Participa
URL:https://caldetes.cat/document.php?id=5431
END:VEVENT
END:VCALENDAR