BEGIN:VCALENDAR
VERSION:2.0
PRODID:-//Plone.org//NONSGML plone.app.event//EN
X-WR-TIMEZONE:Europe/Madrid
BEGIN:VEVENT
SUMMARY:Ple municipal
DTSTART;TZID=Europe/Madrid;VALUE=DATE-TIME:20170130T200000
DTEND;TZID=Europe/Madrid;VALUE=DATE-TIME:20170130T210000
DTSTAMP;VALUE=DATE-TIME:20260423T102800Z
UID:dcc5d2c1d440e8f54176a6677aa9e1b6
CREATED;VALUE=DATE-TIME:20170130T000000Z
LOCATION:Sala Cultural
DESCRIPTION:Sessió ordinària del ple municipal
URL:https://caldetes.cat/document.php?id=5438
END:VEVENT
END:VCALENDAR