BEGIN:VCALENDAR
VERSION:2.0
PRODID:-//Plone.org//NONSGML plone.app.event//EN
X-WR-TIMEZONE:Europe/Madrid
BEGIN:VEVENT
SUMMARY:Ple municipal
DTSTART;TZID=Europe/Madrid;VALUE=DATE-TIME:20170529T200000
DTEND;TZID=Europe/Madrid;VALUE=DATE-TIME:20170529T210000
DTSTAMP;VALUE=DATE-TIME:20260425T033803Z
UID:7a2f068f86a543ea8b88080d9b19c04e
CREATED;VALUE=DATE-TIME:20170529T000000Z
LOCATION:Sala Cultural
DESCRIPTION:Sessió ordinària del ple municipal
URL:https://caldetes.cat/document.php?id=5440
END:VEVENT
END:VCALENDAR