BEGIN:VCALENDAR
VERSION:2.0
PRODID:-//Plone.org//NONSGML plone.app.event//EN
X-WR-TIMEZONE:Europe/Madrid
BEGIN:VEVENT
SUMMARY:Festival Poesia i +
DTSTART;TZID=Europe/Madrid;VALUE=DATE-TIME:20100626T220000
DTEND;TZID=Europe/Madrid;VALUE=DATE-TIME:20100626T230000
DTSTAMP;VALUE=DATE-TIME:20260425T165116Z
UID:e020089871e82a1a8f175bdb0789e223
CREATED;VALUE=DATE-TIME:20100626T000000Z
LOCATION:Pèrgola Can Muntanyà
ORGANIZER:Fundació Palau i Ajuntament de Caldes d'Estrac amb el suport de la Institució de les Lletres Catalanes de la Generalitat de Catalunya
COMMENT:Preu: 6 &euro;
DESCRIPTION:"Manifest groc" amb Nozomi 700 Teatre
URL:https://caldetes.cat/document.php?id=545
END:VEVENT
END:VCALENDAR