BEGIN:VCALENDAR
VERSION:2.0
PRODID:-//Plone.org//NONSGML plone.app.event//EN
X-WR-TIMEZONE:Europe/Madrid
BEGIN:VEVENT
SUMMARY:Tallers Ocupacionals
DTSTART;TZID=Europe/Madrid;VALUE=DATE-TIME:20170209T173000
DTEND;TZID=Europe/Madrid;VALUE=DATE-TIME:20170209T183000
DTSTAMP;VALUE=DATE-TIME:20260422T204235Z
UID:7ec487a59b755d0d0d7ab0161855c25b
CREATED;VALUE=DATE-TIME:20170209T000000Z
LOCATION:Espai Jove
ORGANIZER:Àrea de Joventut
COMMENT:Preu: Gratuït
Durada: djous 2 i dijous 9 de febrer
DESCRIPTION:Noves estratègies creatives en la recerca de feina
URL:https://caldetes.cat/document.php?id=5468
END:VEVENT
END:VCALENDAR