BEGIN:VCALENDAR
VERSION:2.0
PRODID:-//Plone.org//NONSGML plone.app.event//EN
X-WR-TIMEZONE:Europe/Madrid
BEGIN:VEVENT
SUMMARY:Petanca. Melés golfes
DTSTART;TZID=Europe/Madrid;VALUE=DATE-TIME:20100706T220000
DTEND;TZID=Europe/Madrid;VALUE=DATE-TIME:20100706T230000
DTSTAMP;VALUE=DATE-TIME:20260426T044532Z
UID:a5e3703336421bd2852da1e9f2567df3
CREATED;VALUE=DATE-TIME:20100706T000000Z
CATEGORIES:Esports
LOCATION:Pistes Municipals de Petanca
ORGANIZER:Club Petanca Caldes d'Estrac
URL:https://caldetes.cat/document.php?id=548
END:VEVENT
END:VCALENDAR