BEGIN:VCALENDAR
VERSION:2.0
PRODID:-//Plone.org//NONSGML plone.app.event//EN
X-WR-TIMEZONE:Europe/Madrid
BEGIN:VEVENT
SUMMARY:NIT DE TAPES I MÚSICA AL MERCAT
DTSTART;TZID=Europe/Madrid;VALUE=DATE-TIME:20170325T200000
DTEND;TZID=Europe/Madrid;VALUE=DATE-TIME:20170325T210000
DTSTAMP;VALUE=DATE-TIME:20260423T045327Z
UID:0866f869e8f4cfe41a8068528f87bed1
CREATED;VALUE=DATE-TIME:20170325T000000Z
CATEGORIES:Festa
LOCATION:MERCAT MUNICIPAL
ORGANIZER:MERCAT MUNICIPAL AMB EL SUPORT DE L'AJUNTAMENT
COMMENT:Preu: DESDE 1&euro;
Durada: FINALITZA A LES 24:00
DESCRIPTION:Tot tipus de tapes a partir d'1 Euro
URL:https://caldetes.cat/document.php?id=5559
END:VEVENT
END:VCALENDAR