BEGIN:VCALENDAR
VERSION:2.0
PRODID:-//Plone.org//NONSGML plone.app.event//EN
X-WR-TIMEZONE:Europe/Madrid
BEGIN:VEVENT
SUMMARY:Pilates per a la  Gent gran
DTSTART;TZID=Europe/Madrid;VALUE=DATE-TIME:20170420T100000
DTEND;TZID=Europe/Madrid;VALUE=DATE-TIME:20170420T110000
DTSTAMP;VALUE=DATE-TIME:20260424T111646Z
UID:dc191cee4f54553dc51bdba5aebfb2ec
CREATED;VALUE=DATE-TIME:20170420T000000Z
CATEGORIES:Cursos
LOCATION:Sala Cultural
ORGANIZER:Àrea d'Acció Social
COMMENT:Preu: Gratuït
Durada: Horari : dijous de 10 a 11h.
DESCRIPTION:A càrrec de Raquel Rivera.
URL:https://caldetes.cat/document.php?id=5569
END:VEVENT
END:VCALENDAR