BEGIN:VCALENDAR
VERSION:2.0
PRODID:-//Plone.org//NONSGML plone.app.event//EN
X-WR-TIMEZONE:Europe/Madrid
BEGIN:VEVENT
SUMMARY:Taller de Pilates per a gent Gran
DTSTART;TZID=Europe/Madrid;VALUE=DATE-TIME:20170518T100000
DTEND;TZID=Europe/Madrid;VALUE=DATE-TIME:20170518T110000
DTSTAMP;VALUE=DATE-TIME:20260426T000747Z
UID:55c7b34471833a36fdc205753d2cbc04
CREATED;VALUE=DATE-TIME:20170518T000000Z
CATEGORIES:Cursos
LOCATION:Sala Cultural
ORGANIZER:Serveis Socials
COMMENT:Preu: gratuit
Durada: Tot l'any (vacances juliol i agost).
DESCRIPTION:Tots els dijous , de 10 a 11 tot l'any excepte festius i vacances juliol i agost
URL:https://caldetes.cat/document.php?id=5575
END:VEVENT
END:VCALENDAR