BEGIN:VCALENDAR
VERSION:2.0
PRODID:-//Plone.org//NONSGML plone.app.event//EN
X-WR-TIMEZONE:Europe/Madrid
BEGIN:VEVENT
SUMMARY:TunaRaceBalfegó Caldetes
DTSTART;TZID=Europe/Madrid;VALUE=DATE-TIME:20170618T090000
DTEND;TZID=Europe/Madrid;VALUE=DATE-TIME:20170618T100000
DTSTAMP;VALUE=DATE-TIME:20260423T061615Z
UID:e75d6db101daf44633c51d9c5ca08cdb
CREATED;VALUE=DATE-TIME:20170618T000000Z
CATEGORIES:Esports
LOCATION:Platja de Caldetes
ORGANIZER:CIMA Dynamic
COMMENT:Preu: 36&euro; / 16&euro;
DESCRIPTION:TunaRaceBalfegó Caldetes
URL:https://caldetes.cat/document.php?id=5597
END:VEVENT
END:VCALENDAR