BEGIN:VCALENDAR
VERSION:2.0
PRODID:-//Plone.org//NONSGML plone.app.event//EN
X-WR-TIMEZONE:Europe/Madrid
BEGIN:VEVENT
SUMMARY:Alimentació saludable amb infants de 0 a 6 anys
DTSTART;TZID=Europe/Madrid;VALUE=DATE-TIME:20170308T170000
DTEND;TZID=Europe/Madrid;VALUE=DATE-TIME:20170308T180000
DTSTAMP;VALUE=DATE-TIME:20260422T173727Z
UID:9b785a3e588dde5475981e6fbcadfaba
CREATED;VALUE=DATE-TIME:20170308T000000Z
LOCATION:Escola Bressol
ORGANIZER:Àrea d'Educació - Ajuntament de Caldes d'Estrac i Cavall de Cartró, Serveis Educatius
COMMENT:Preu: Gratuït
DESCRIPTION:Taller - xerrada sobre hàbits alimentaris a la primera infància
URL:https://caldetes.cat/document.php?id=5598
END:VEVENT
END:VCALENDAR