BEGIN:VCALENDAR
VERSION:2.0
PRODID:-//Plone.org//NONSGML plone.app.event//EN
X-WR-TIMEZONE:Europe/Madrid
BEGIN:VEVENT
SUMMARY:28a edició de la Cursa Popular de Caldes d'Estrac
DTSTART;TZID=Europe/Madrid;VALUE=DATE-TIME:20170305T000000
DTEND;TZID=Europe/Madrid;VALUE=DATE-TIME:20170305T010000
DTSTAMP;VALUE=DATE-TIME:20260422T102059Z
UID:ba55bbd6e4af846de48a22b5fcbc2eb7
CREATED;VALUE=DATE-TIME:20170305T000000Z
CATEGORIES:Esports,Agenda d'Alcaldia
LOCATION:Caldes d'Estrac
ORGANIZER:Ajuntament de Caldes d'Estrac, Centre Atlètic Laietània, ChampionChip
DESCRIPTION:Circuit de 10km
URL:https://caldetes.cat/document.php?id=5599
END:VEVENT
END:VCALENDAR