BEGIN:VCALENDAR
VERSION:2.0
PRODID:-//Plone.org//NONSGML plone.app.event//EN
X-WR-TIMEZONE:Europe/Madrid
BEGIN:VEVENT
SUMMARY:Triwoman
DTSTART;TZID=Europe/Madrid;VALUE=DATE-TIME:20170312T000000
DTEND;TZID=Europe/Madrid;VALUE=DATE-TIME:20170312T010000
DTSTAMP;VALUE=DATE-TIME:20260421T005720Z
UID:f63da2d60a39fa381e84f5958cb1d5cb
CREATED;VALUE=DATE-TIME:20170312T000000Z
CATEGORIES:Esports,Agenda d'Alcaldia
LOCATION:Caldes d'Estrac - Sortida Port Balís
DESCRIPTION:Cursa femenina per commemorar el dia de la Dona
URL:https://caldetes.cat/document.php?id=5600
END:VEVENT
END:VCALENDAR