BEGIN:VCALENDAR
VERSION:2.0
PRODID:-//Plone.org//NONSGML plone.app.event//EN
X-WR-TIMEZONE:Europe/Madrid
BEGIN:VEVENT
SUMMARY:Concert de jazz
DTSTART;TZID=Europe/Madrid;VALUE=DATE-TIME:20170318T213000
DTEND;TZID=Europe/Madrid;VALUE=DATE-TIME:20170318T223000
DTSTAMP;VALUE=DATE-TIME:20260423T190031Z
UID:f02872338b98f0a997ec8e1356b8f377
CREATED;VALUE=DATE-TIME:20170318T000000Z
CATEGORIES:Música,Agenda d'Alcaldia
LOCATION:Sala Cultural
COMMENT:Preu: Gratuït
Durada: A partir 21:30h
DESCRIPTION:Per celebrar el 25è aniversari d'Amics dels Bonsais
URL:https://caldetes.cat/document.php?id=5602
END:VEVENT
END:VCALENDAR