BEGIN:VCALENDAR
VERSION:2.0
PRODID:-//Plone.org//NONSGML plone.app.event//EN
X-WR-TIMEZONE:Europe/Madrid
BEGIN:VEVENT
SUMMARY:Taller infantil d'Iniciació als Bonsais
DTSTART;TZID=Europe/Madrid;VALUE=DATE-TIME:20170319T100000
DTEND;TZID=Europe/Madrid;VALUE=DATE-TIME:20170319T110000
DTSTAMP;VALUE=DATE-TIME:20260423T161615Z
UID:c0493430d6a1f9b45f06ee41f17bd04c
CREATED;VALUE=DATE-TIME:20170319T000000Z
CATEGORIES:Cursos,Infantils
LOCATION:L'Equipament (La Fabriqueta)
COMMENT:Preu: Gratuït
DESCRIPTION:Inscripció gratuïta i limitada (màxim 15 inscripcions)
URL:https://caldetes.cat/document.php?id=5603
END:VEVENT
END:VCALENDAR