BEGIN:VCALENDAR
VERSION:2.0
PRODID:-//Plone.org//NONSGML plone.app.event//EN
X-WR-TIMEZONE:Europe/Madrid
BEGIN:VEVENT
SUMMARY:Taller Demostració del Bonsai
DTSTART;TZID=Europe/Madrid;VALUE=DATE-TIME:20170325T100000
DTEND;TZID=Europe/Madrid;VALUE=DATE-TIME:20170325T110000
DTSTAMP;VALUE=DATE-TIME:20260425T164357Z
UID:382fe8a4441b5010624157079a6ac201
CREATED;VALUE=DATE-TIME:20170325T000000Z
CATEGORIES:Exposició,Mostra
LOCATION:L'Equipament (La Fabriqueta)
ORGANIZER:Amics dels Bonsais
COMMENT:Preu: Gratuït
DESCRIPTION:A càrrec de Joan Pardo
URL:https://caldetes.cat/document.php?id=5604
END:VEVENT
END:VCALENDAR