BEGIN:VCALENDAR
VERSION:2.0
PRODID:-//Plone.org//NONSGML plone.app.event//EN
X-WR-TIMEZONE:Europe/Madrid
BEGIN:VEVENT
SUMMARY:Dia Internacional del Donant de Sang
DTSTART;TZID=Europe/Madrid;VALUE=DATE-TIME:20170614T000000
DTEND;TZID=Europe/Madrid;VALUE=DATE-TIME:20170614T010000
DTSTAMP;VALUE=DATE-TIME:20260422T060506Z
UID:09db90c64f2847bb0ee554fc4158e5c1
CREATED;VALUE=DATE-TIME:20170614T000000Z
DESCRIPTION:Acte commemoratiu
URL:https://caldetes.cat/document.php?id=5611
END:VEVENT
END:VCALENDAR