BEGIN:VCALENDAR
VERSION:2.0
PRODID:-//Plone.org//NONSGML plone.app.event//EN
X-WR-TIMEZONE:Europe/Madrid
BEGIN:VEVENT
SUMMARY:Jornada Portes Obertes
DTSTART;TZID=Europe/Madrid;VALUE=DATE-TIME:20170308T151500
DTEND;TZID=Europe/Madrid;VALUE=DATE-TIME:20170308T161500
DTSTAMP;VALUE=DATE-TIME:20260422T202150Z
UID:f647d0a9f8500586eb53124ccdd1882a
CREATED;VALUE=DATE-TIME:20170308T000000Z
CATEGORIES:Mostra,Agenda d'Alcaldia
LOCATION:Escola Sagrada Família
ORGANIZER:Escola Sagrada Família
DESCRIPTION:Escola Sagrada Família
URL:https://caldetes.cat/document.php?id=5613
END:VEVENT
END:VCALENDAR