BEGIN:VCALENDAR
VERSION:2.0
PRODID:-//Plone.org//NONSGML plone.app.event//EN
X-WR-TIMEZONE:Europe/Madrid
BEGIN:VEVENT
SUMMARY:Sessió informativa
DTSTART;TZID=Europe/Madrid;VALUE=DATE-TIME:20170308T183000
DTEND;TZID=Europe/Madrid;VALUE=DATE-TIME:20170308T193000
DTSTAMP;VALUE=DATE-TIME:20260424T173609Z
UID:d78b1b047c2d86ee87945097c3742c85
CREATED;VALUE=DATE-TIME:20170308T000000Z
CATEGORIES:Exposició,Conferència,Agenda d'Alcaldia
LOCATION:La Fabriqueta
ORGANIZER:Àrea de Medi Ambient de l'Ajuntament de Caldes d'Estrac en col·laboració amb la Diputació de Barcelona
DESCRIPTION:Retirada dels pins malalts del Parc Can Muntanyà. Quin impacte visutal tindrà?
URL:https://caldetes.cat/document.php?id=5618
END:VEVENT
END:VCALENDAR