BEGIN:VCALENDAR
VERSION:2.0
PRODID:-//Plone.org//NONSGML plone.app.event//EN
X-WR-TIMEZONE:Europe/Madrid
BEGIN:VEVENT
SUMMARY:Tertúlia - berenar de dones
DTSTART;TZID=Europe/Madrid;VALUE=DATE-TIME:20170311T170000
DTEND;TZID=Europe/Madrid;VALUE=DATE-TIME:20170311T180000
DTSTAMP;VALUE=DATE-TIME:20260425T025028Z
UID:9466ba9e6843d89d60841a669157a8e6
CREATED;VALUE=DATE-TIME:20170311T000000Z
LOCATION:La Fabriqueta
ORGANIZER:Àrea d'Acció Social de l'Ajuntament de Caldes d'Estrac
DESCRIPTION:Amb motiu de la commemoració del Dia Internacional de la Dona
URL:https://caldetes.cat/document.php?id=5623
END:VEVENT
END:VCALENDAR