BEGIN:VCALENDAR
VERSION:2.0
PRODID:-//Plone.org//NONSGML plone.app.event//EN
X-WR-TIMEZONE:Europe/Madrid
BEGIN:VEVENT
SUMMARY:VISITA ESCOLAR
DTSTART;TZID=Europe/Madrid;VALUE=DATE-TIME:20170526T100000
DTEND;TZID=Europe/Madrid;VALUE=DATE-TIME:20170526T110000
DTSTAMP;VALUE=DATE-TIME:20260424T012542Z
UID:9fb4b176766b4cdd6829aece6929b049
CREATED;VALUE=DATE-TIME:20170526T000000Z
CATEGORIES:Literatura,Infantils
LOCATION:Biblioteca Can Milans
ORGANIZER:Biblioteca Can Milans
DESCRIPTION:Els nens de 1r visiten la biblioteca
URL:https://caldetes.cat/document.php?id=5625
END:VEVENT
END:VCALENDAR