BEGIN:VCALENDAR
VERSION:2.0
PRODID:-//Plone.org//NONSGML plone.app.event//EN
X-WR-TIMEZONE:Europe/Madrid
BEGIN:VEVENT
SUMMARY:VISITA ESCOLAR
DTSTART;TZID=Europe/Madrid;VALUE=DATE-TIME:20170503T100000
DTEND;TZID=Europe/Madrid;VALUE=DATE-TIME:20170503T110000
DTSTAMP;VALUE=DATE-TIME:20260421T184236Z
UID:61572fae2d8b8bc723e4dfbb7e804aed
CREATED;VALUE=DATE-TIME:20170503T000000Z
CATEGORIES:Literatura,Infantils
LOCATION:Biblioteca Can Milans
ORGANIZER:Biblioteca Can Milans
DESCRIPTION:Els nens de P5 visiten la biblioteca
URL:https://caldetes.cat/document.php?id=5628
END:VEVENT
END:VCALENDAR