BEGIN:VCALENDAR
VERSION:2.0
PRODID:-//Plone.org//NONSGML plone.app.event//EN
X-WR-TIMEZONE:Europe/Madrid
BEGIN:VEVENT
SUMMARY:VISITA ESCOLAR
DTSTART;TZID=Europe/Madrid;VALUE=DATE-TIME:20170419T100000
DTEND;TZID=Europe/Madrid;VALUE=DATE-TIME:20170419T110000
DTSTAMP;VALUE=DATE-TIME:20260421T200711Z
UID:d1cfc6d6c2990fa60e878aa10f545004
CREATED;VALUE=DATE-TIME:20170419T000000Z
CATEGORIES:Literatura,Infantils
LOCATION:Biblioteca Can Milans
ORGANIZER:Biblioteca Can Milans
DESCRIPTION:Els nens de 4T visiten la biblioteca
URL:https://caldetes.cat/document.php?id=5630
END:VEVENT
END:VCALENDAR