BEGIN:VCALENDAR
VERSION:2.0
PRODID:-//Plone.org//NONSGML plone.app.event//EN
X-WR-TIMEZONE:Europe/Madrid
BEGIN:VEVENT
SUMMARY:TALLER DE PRIMAVERA
DTSTART;TZID=Europe/Madrid;VALUE=DATE-TIME:20170324T180000
DTEND;TZID=Europe/Madrid;VALUE=DATE-TIME:20170324T190000
DTSTAMP;VALUE=DATE-TIME:20260424T160436Z
UID:d2865ba95eec872877fc32cf8b064705
CREATED;VALUE=DATE-TIME:20170324T000000Z
CATEGORIES:Infantils
LOCATION:Biblioteca Can Milans
ORGANIZER:Biblioteca Can Milans
URL:https://caldetes.cat/document.php?id=5632
END:VEVENT
END:VCALENDAR